BEGIN:VCALENDAR
VERSION:2.0
PRODID:-//EXCHANGE CLUB OF SAN RAMON VALLEY - ECPv6.15.17.1//NONSGML v1.0//EN
CALSCALE:GREGORIAN
METHOD:PUBLISH
X-ORIGINAL-URL:https://srvexchangeclub.com
X-WR-CALDESC:Events for EXCHANGE CLUB OF SAN RAMON VALLEY
REFRESH-INTERVAL;VALUE=DURATION:PT1H
X-Robots-Tag:noindex
X-PUBLISHED-TTL:PT1H
BEGIN:VTIMEZONE
TZID:UTC
BEGIN:STANDARD
TZOFFSETFROM:+0000
TZOFFSETTO:+0000
TZNAME:UTC
DTSTART:20230101T000000
END:STANDARD
END:VTIMEZONE
BEGIN:VEVENT
DTSTART;TZID=UTC:20240610T080000
DTEND;TZID=UTC:20240610T170000
DTSTAMP:20260422T161327
CREATED:20240605T203313Z
LAST-MODIFIED:20240606T120155Z
UID:362-1718006400-1718038800@srvexchangeclub.com
SUMMARY:Upcoming Events
DESCRIPTION:
URL:https://srvexchangeclub.com/event/upcoming-events/
LOCATION:CA
END:VEVENT
END:VCALENDAR