BEGIN:VCALENDAR
VERSION:2.0
PRODID:-//EXCHANGE CLUB OF SAN RAMON VALLEY - ECPv6.15.17.1//NONSGML v1.0//EN
CALSCALE:GREGORIAN
METHOD:PUBLISH
X-ORIGINAL-URL:https://srvexchangeclub.com
X-WR-CALDESC:Events for EXCHANGE CLUB OF SAN RAMON VALLEY
REFRESH-INTERVAL;VALUE=DURATION:PT1H
X-Robots-Tag:noindex
X-PUBLISHED-TTL:PT1H
BEGIN:VTIMEZONE
TZID:UTC
BEGIN:STANDARD
TZOFFSETFROM:+0000
TZOFFSETTO:+0000
TZNAME:UTC
DTSTART:20230101T000000
END:STANDARD
END:VTIMEZONE
BEGIN:VEVENT
DTSTART;TZID=UTC:20241009T113000
DTEND;TZID=UTC:20241009T130000
DTSTAMP:20260422T104833
CREATED:20240926T061031Z
LAST-MODIFIED:20240926T061032Z
UID:859-1728473400-1728478800@srvexchangeclub.com
SUMMARY:Exchange Club Luncheon
DESCRIPTION:PRESENTATION: Wednesday\, October 9\, 2024 \nLUNCHEON: The Grille at Blackhawk–3540 Blackhawk Plaza Circle
URL:https://srvexchangeclub.com/event/exchange-club-luncheon-2/
LOCATION:Grille at Blackhawk\, 3540 Blackhawk Plaza Cir\, Danville\, CA 94506
END:VEVENT
END:VCALENDAR